BEGIN:VCALENDAR
VERSION:2.0
PRODID:-//TYPO3/NONSGML News system (news)//EN
BEGIN:VEVENT
UID:news-219@www.gsoses-ur.de
DTSTAMP:20251017T135325Z
DTSTART:20251112T193000Z
DTEND:20251113T000000Z
SUMMARY:BOOK LAUNCH | Balkan-Odyssee 1933-1941. Auf der Flucht vor Hitler durch Südosteuropa
END:VEVENT
END:VCALENDAR