BEGIN:VCALENDAR
VERSION:2.0
PRODID:-//TYPO3/NONSGML News system (news)//EN
BEGIN:VEVENT
UID:news-244@www.gsoses-ur.de
DTSTAMP:20260422T125127Z
DTSTART:20260609T131500Z
DTEND:20260610T000000Z
SUMMARY:BOOK LAUNCH | Domestic Service in the Soviet Union: Women&#039;s Emancipation and the Gendered Hierarchy of Labor
END:VEVENT
END:VCALENDAR