BEGIN:VCALENDAR
VERSION:2.0
PRODID:-//TYPO3/NONSGML News system (news)//EN
BEGIN:VEVENT
UID:news-207@www.gsoses-ur.de
DTSTAMP:20250612T141618Z
DTSTART:20250701T161500Z
DTEND:20250702T000000Z
SUMMARY:Papusza / Bronisława Wajs. Tears of Blood
END:VEVENT
END:VCALENDAR