BEGIN:VCALENDAR
VERSION:2.0
PRODID:-//TYPO3/NONSGML News system (news)//EN
BEGIN:VEVENT
UID:news-223@www.gsoses-ur.de
DTSTAMP:20251202T134213Z
DTSTART:20251209T161500Z
DTEND:20251210T000000Z
SUMMARY:Career Talk 2: Opportunities Within and Beyond Academia - International Perspectives
END:VEVENT
END:VCALENDAR