BEGIN:VCALENDAR
VERSION:2.0
PRODID:-//TYPO3/NONSGML News system (news)//EN
BEGIN:VEVENT
UID:news-225@www.gsoses-ur.de
DTSTAMP:20251023T135149Z
DTSTART:20251126T140000Z
DTEND:20251127T000000Z
SUMMARY:Contesting Symbols in East and Southeast Europe
END:VEVENT
END:VCALENDAR