BEGIN:VCALENDAR
VERSION:2.0
PRODID:-//TYPO3/NONSGML News system (news)//EN
BEGIN:VEVENT
UID:news-218@www.gsoses-ur.de
DTSTAMP:20250909T115101Z
DTSTART:20260115T141500Z
DTEND:20260116T000000Z
SUMMARY:Food Chemistry and the Soviet Quest for Development after World War II
END:VEVENT
END:VCALENDAR