BEGIN:VCALENDAR
VERSION:2.0
PRODID:-//TYPO3/NONSGML News system (news)//EN
BEGIN:VEVENT
UID:news-224@www.gsoses-ur.de
DTSTAMP:20251029T134911Z
DTSTART:20251202T140000Z
DTEND:20251203T000000Z
SUMMARY:Get it Published - How to Turn your Thesis into a Book
END:VEVENT
END:VCALENDAR