BEGIN:VCALENDAR
VERSION:2.0
PRODID:-//TYPO3/NONSGML News system (news)//EN
BEGIN:VEVENT
UID:news-202@www.gsoses-ur.de
DTSTAMP:20250430T141920Z
DTSTART:20250507T161500Z
DTEND:20250508T000000Z
SUMMARY:In Afghanistan, cats have more rights than women”: Feminine Protests and Passive Resistance under the Taliban Regime
END:VEVENT
END:VCALENDAR