BEGIN:VCALENDAR
VERSION:2.0
PRODID:-//TYPO3/NONSGML News system (news)//EN
BEGIN:VEVENT
UID:news-243@www.gsoses-ur.de
DTSTAMP:20260422T122828Z
DTSTART:20260424T180000Z
DTEND:20260425T000000Z
SUMMARY:NACHT.SCHAFFT.WISSEN - Regensburg Global
END:VEVENT
END:VCALENDAR