BEGIN:VCALENDAR
VERSION:2.0
PRODID:-//TYPO3/NONSGML News system (news)//EN
BEGIN:VEVENT
UID:news-203@www.gsoses-ur.de
DTSTAMP:20250508T100229Z
DTSTART:20250508T140000Z
DTEND:20250509T000000Z
SUMMARY:2025 Cohort 
END:VEVENT
END:VCALENDAR