BEGIN:VCALENDAR
VERSION:2.0
PRODID:-//TYPO3/NONSGML News system (news)//EN
BEGIN:VEVENT
UID:news-215@www.gsoses-ur.de
DTSTAMP:20250909T103358Z
DTSTART:20251016T141500Z
DTEND:20251017T000000Z
SUMMARY:Practicing Transnational History
END:VEVENT
END:VCALENDAR