BEGIN:VCALENDAR
VERSION:2.0
PRODID:-//TYPO3/NONSGML News system (news)//EN
BEGIN:VEVENT
UID:news-216@www.gsoses-ur.de
DTSTAMP:20251105T104805Z
DTSTART:20251113T141500Z
DTEND:20251114T000000Z
SUMMARY:Setting Up Shop in the House of the Hangman: Jewish Economic Life Postwar Germany
END:VEVENT
END:VCALENDAR