BEGIN:VCALENDAR
VERSION:2.0
PRODID:-//TYPO3/NONSGML News system (news)//EN
BEGIN:VEVENT
UID:news-217@www.gsoses-ur.de
DTSTAMP:20250917T133024Z
DTSTART:20251211T141500Z
DTEND:20251212T000000Z
SUMMARY:Socialist Law of Energy Exchange: Fossil Base and Cultural Superstructure
END:VEVENT
END:VCALENDAR