BEGIN:VCALENDAR
VERSION:2.0
PRODID:-//TYPO3/NONSGML News system (news)//EN
BEGIN:VEVENT
UID:news-210@www.gsoses-ur.de
DTSTAMP:20250514T135504Z
DTSTART:20250527T141500Z
DTEND:20250528T000000Z
SUMMARY:BOOK LAUNCH | Sovereignty through Practice: Multiscalarity, Reflexivity, and Interdisciplinarity
END:VEVENT
END:VCALENDAR