BEGIN:VCALENDAR
VERSION:2.0
PRODID:-//TYPO3/NONSGML News system (news)//EN
BEGIN:VEVENT
UID:news-206@www.gsoses-ur.de
DTSTAMP:20250604T131443Z
DTSTART:20250624T161500Z
DTEND:20250625T000000Z
SUMMARY:Stalinist Repressions against Ukraine’s Yiddish Writers: Reasons and Legends
END:VEVENT
END:VCALENDAR