BEGIN:VCALENDAR
VERSION:2.0
PRODID:-//TYPO3/NONSGML News system (news)//EN
BEGIN:VEVENT
UID:news-204@www.gsoses-ur.de
DTSTAMP:20250508T121658Z
DTSTART:20250521T181500Z
DTEND:20250522T000000Z
SUMMARY:The Power in White: Women’s Protest in Belarus
END:VEVENT
END:VCALENDAR